BEGIN:VCALENDAR
VERSION:2.0
PRODID:-//Stoke Bruerne Parish Council//Meeting Calendar//EN
CALSCALE:GREGORIAN
METHOD:PUBLISH
BEGIN:VEVENT
UID:70932-20251021@stokebruerneparishcouncil.gov.uk
DTSTAMP:20260423T114947Z
DTSTART;VALUE=DATE:20251021
DTEND;VALUE=DATE:20251022
SUMMARY:Parish Council Meeting 21 October 2025
DESCRIPTION:Full Council Meeting\nView details: https://stokebruerneparishcouncil.gov.uk/meetings/parish-council-meeting-3/
URL:https://stokebruerneparishcouncil.gov.uk/meetings/parish-council-meeting-3/
END:VEVENT
END:VCALENDAR
