BEGIN:VCALENDAR
VERSION:2.0
PRODID:-//Stoke Bruerne Parish Council//Meeting Calendar//EN
CALSCALE:GREGORIAN
METHOD:PUBLISH
BEGIN:VEVENT
UID:70921-20250916@stokebruerneparishcouncil.gov.uk
DTSTAMP:20260423T114658Z
DTSTART;VALUE=DATE:20250916
DTEND;VALUE=DATE:20250917
SUMMARY:Parish Council Meeting 16 September 2025
DESCRIPTION:Full Council Meeting\nView details: https://stokebruerneparishcouncil.gov.uk/meetings/parish-council-meeting-16-september/
URL:https://stokebruerneparishcouncil.gov.uk/meetings/parish-council-meeting-16-september/
END:VEVENT
END:VCALENDAR
