BEGIN:VCALENDAR
VERSION:2.0
PRODID:-//Stoke Bruerne Parish Council//Meeting Calendar//EN
CALSCALE:GREGORIAN
METHOD:PUBLISH
BEGIN:VEVENT
UID:70893-20250715@stokebruerneparishcouncil.gov.uk
DTSTAMP:20260423T115222Z
DTSTART;VALUE=DATE:20250715
DTEND;VALUE=DATE:20250716
SUMMARY:Parish Council Meeting 15 July 2025
DESCRIPTION:Full Council Meeting\nView details: https://stokebruerneparishcouncil.gov.uk/meetings/parish-council-meeting-15-july-2025/
URL:https://stokebruerneparishcouncil.gov.uk/meetings/parish-council-meeting-15-july-2025/
END:VEVENT
END:VCALENDAR
