BEGIN:VCALENDAR
VERSION:2.0
PRODID:-//Stoke Bruerne Parish Council//Meeting Calendar//EN
CALSCALE:GREGORIAN
METHOD:PUBLISH
BEGIN:VEVENT
UID:70828-20250422@stokebruerneparishcouncil.gov.uk
DTSTAMP:20260419T152327Z
DTSTART;VALUE=DATE:20250422
DTEND;VALUE=DATE:20250423
SUMMARY:Annual Parish Meeting 22 April 2025
DESCRIPTION:Annual Meeting\nView details: https://stokebruerneparishcouncil.gov.uk/meetings/annual-parish-meeting-22-april-2025/
URL:https://stokebruerneparishcouncil.gov.uk/meetings/annual-parish-meeting-22-april-2025/
END:VEVENT
END:VCALENDAR
