BEGIN:VCALENDAR
VERSION:2.0
PRODID:-//Stoke Bruerne Parish Council//Meeting Calendar//EN
CALSCALE:GREGORIAN
METHOD:PUBLISH
BEGIN:VEVENT
UID:70633-20240521@stokebruerneparishcouncil.gov.uk
DTSTAMP:20260419T151410Z
DTSTART;VALUE=DATE:20240521
DTEND;VALUE=DATE:20240522
SUMMARY:Parish Council AGM 21 May 2024
DESCRIPTION:Annual Meeting\nView details: https://stokebruerneparishcouncil.gov.uk/meetings/council-meeting-2/
URL:https://stokebruerneparishcouncil.gov.uk/meetings/council-meeting-2/
END:VEVENT
END:VCALENDAR
