BEGIN:VCALENDAR
VERSION:2.0
PRODID:-//Stoke Bruerne Parish Council//Meeting Calendar//EN
CALSCALE:GREGORIAN
METHOD:PUBLISH
BEGIN:VEVENT
UID:70487-20230101@stokebruerneparishcouncil.gov.uk
DTSTAMP:20260419T151209Z
DTSTART;VALUE=DATE:20230101
DTEND;VALUE=DATE:20230102
SUMMARY:Annual Parish Assemblies
DESCRIPTION:Annual Meeting\nView details: https://stokebruerneparishcouncil.gov.uk/meetings/annual-parish-assemblies/
URL:https://stokebruerneparishcouncil.gov.uk/meetings/annual-parish-assemblies/
END:VEVENT
END:VCALENDAR
