BEGIN:VCALENDAR
VERSION:2.0
PRODID:-//Stoke Bruerne Parish Council//Meeting Calendar//EN
CALSCALE:GREGORIAN
METHOD:PUBLISH
BEGIN:VEVENT
UID:70474-20210101@stokebruerneparishcouncil.gov.uk
DTSTAMP:20260423T115648Z
DTSTART;VALUE=DATE:20210101
DTEND;VALUE=DATE:20210102
SUMMARY:Council Meetings &#8211\\; 2021
DESCRIPTION:Full Council Meeting\nView details: https://stokebruerneparishcouncil.gov.uk/meetings/council-meetings-2021-22/
URL:https://stokebruerneparishcouncil.gov.uk/meetings/council-meetings-2021-22/
END:VEVENT
END:VCALENDAR
