BEGIN:VCALENDAR
VERSION:2.0
PRODID:-//Stoke Bruerne Parish Council//Meeting Calendar//EN
CALSCALE:GREGORIAN
METHOD:PUBLISH
BEGIN:VEVENT
UID:70465-20230101@stokebruerneparishcouncil.gov.uk
DTSTAMP:20260425T120924Z
DTSTART;VALUE=DATE:20230101
DTEND;VALUE=DATE:20230102
SUMMARY:Council Meetings &#8211\\; 2023
DESCRIPTION:Full Council Meeting\nView details: https://stokebruerneparishcouncil.gov.uk/meetings/council-meetings-2023-24/
URL:https://stokebruerneparishcouncil.gov.uk/meetings/council-meetings-2023-24/
END:VEVENT
END:VCALENDAR
